1.5625
0
0
-1.5625
18040.1480236
380612.645736
