1.5625
0
0
-1.5625
195620.746024
574182.276016
