1.5625
0
0
-1.5625
188571.156024
553346.182996
