1.5625
0
0
-1.5625
190865.766024
548558.121008
