1.5625
0
0
-1.5625
188456.123024
541515.800469
