1.5625
0
0
-1.5625
165540.966024
565263.930984
