1.5625
0
0
-1.5625
120623.845024
514474.207343
