1.5625
0
0
-1.5625
115604.345024
510351.459685
