1.5625
0
0
-1.5625
53150.1060236
414472.023465
