1.5625
0
0
-1.5625
93471.2790236
407619.89376
