1.5625
0
0
-1.5625
177488.054024
491448.316693
