1.5625
0
0
-1.5625
174964.650024
409834.903043
