1.5625
0
0
-1.5625
201581.773024
554177.720992
