1.5625
0
0
-1.5625
216500.942024
585803.576402
