1.5625
0
0
-1.5625
176008.024024
383810.664138
