1.5625
0
0
-1.5625
204909.926024
533576.798882
