1.5625
0
0
-1.5625
205683.366024
547557.088425
