1.5625
0
0
-1.5625
177438.942024
545712.04076
