1.5625
0
0
-1.5625
117680.578024
499548.775602
