1.5625
0
0
-1.5625
192089.464024
553091.354028
