1.5625
0
0
-1.5625
238832.037024
544239.675976
