1.5625
0
0
-1.5625
52835.3860236
382720.327138
