1.5625
0
0
-1.5625
177891.717024
459991.581606
