1.5625
0
0
-1.5625
245658.925024
568764.137193
