1.5625
0
0
-1.5625
118930.409024
527743.500035
