1.5625
0
0
-1.5625
69369.5960236
429315.68572
