1.5625
0
0
-1.5625
246411.002024
607090.201024
