1.5625
0
0
-1.5625
113226.750024
540099.628898
