1.5625
0
0
-1.5625
182337.681024
551757.096661
