1.5625
0
0
-1.5625
160803.106024
452439.825008
