1.5625
0
0
-1.5625
49190.9660236
362063.553543
