1.5625
0
0
-1.5625
41513.5810236
385855.167319
