1.5625
0
0
-1.5625
191501.451024
374178.49252
