1.5625
0
0
-1.5625
158723.800024
561252.03098
