1.5625
0
0
-1.5625
227608.765024
566029.839957
