1.5625
0
0
-1.5625
197712.916024
542790.851181
