1.5625
0
0
-1.5625
84816.0080236
435325.906409
