1.5625
0
0
-1.5625
155706.227024
562014.763677
