1.5625
0
0
-1.5625
212323.824024
591594.749059
