1.5625
0
0
-1.5625
116683.183024
446876.799701
