1.5625
0
0
-1.5625
64799.1770236
401127.315791
