1.5625
0
0
-1.5625
177749.818024
568102.978531
