1.5625
0
0
-1.5625
197294.837024
350871.686969
