1.5625
0
0
-1.5625
211375.568024
517150.505587
