1.5625
0
0
-1.5625
190199.583024
595392.640933
