1.5625
0
0
-1.5625
148965.830024
441278.325713
