1.5625
0
0
-1.5625
219791.718024
557319.398685
