1.5625
0
0
-1.5625
135828.256024
376897.652106
