1.5625
0
0
-1.5625
251992.126024
492528.874024
