1.5625
0
0
-1.5625
200804.046024
368127.79428
